BEGIN:VCALENDAR
VERSION:2.0
PRODID:icalendar-ruby
CALSCALE:GREGORIAN
METHOD:PUBLISH
BEGIN:VEVENT
DTSTAMP:20260419T191327Z
UID:45-1715882@graterfordbible.com
DTSTART:20260622T130000Z
DTEND:20260622T160000Z
CLASS:PUBLIC
CREATED:20260320T135418
DESCRIPTION:FREE VBS PROGRAM. June 22 - June 25\, 9am - 12pm.  Ages 4 thro
 ugh completed 6th grade.  Get ready to embark on a wild\, creature-filled
  adventure at Rainforest Falls where kids will learn about God's character
 !
LAST-MODIFIED:20260320T135418
LOCATION:Sanctuary
SUMMARY:Rainforest Falls VBS 2026
URL;VALUE=URI:https://www.graterfordbible.com/events/rainforest-falls-vbs-2
 026/2026-06-22
ATTACH;FILENAME=Rainforest-Falls-VBS.png;FMTTYPE=image/png:https://dq5pwpg1
 q8ru0.cloudfront.net/2026/03/17/16/23/49/266af48d-d84a-425c-a04c-9053ec679
 4f0/Rainforest-Falls-VBS.png
END:VEVENT
END:VCALENDAR
