BEGIN:VCALENDAR
VERSION:2.0
PRODID:icalendar-ruby
CALSCALE:GREGORIAN
METHOD:PUBLISH
BEGIN:VEVENT
DTSTAMP:20260423T151305Z
UID:27-1990981@graterfordbible.com
DTSTART:20260930T230000Z
DTEND:20261001T000000Z
CLASS:PUBLIC
CREATED:20260423T103014
DESCRIPTION:
LAST-MODIFIED:20260423T103014
LOCATION:
SUMMARY:Bible Study and Prayer
URL;VALUE=URI:https://www.graterfordbible.com/events/bible-study-and-prayer
 /2026-09-30
ATTACH;FILENAME=WnBW.jpg;FMTTYPE=image/jpeg:https://dq5pwpg1q8ru0.cloudfron
 t.net/2023/02/15/18/47/31/957bd234-f28d-4e61-b96e-d09c3dfef1c1/WnBW.jpg
END:VEVENT
END:VCALENDAR
