BEGIN:VCALENDAR
VERSION:2.0
PRODID:icalendar-ruby
CALSCALE:GREGORIAN
METHOD:PUBLISH
BEGIN:VEVENT
DTSTAMP:20260423T114051Z
UID:27-1989608@graterfordbible.com
DTSTART:20260916T230000Z
DTEND:20260917T000000Z
CLASS:PUBLIC
CREATED:20260423T073629
DESCRIPTION:
LAST-MODIFIED:20260423T073629
LOCATION:
SUMMARY:Bible Study and Prayer
URL;VALUE=URI:https://www.graterfordbible.com/events/bible-study-and-prayer
 /2026-09-16
ATTACH;FILENAME=WnBW.jpg;FMTTYPE=image/jpeg:https://dq5pwpg1q8ru0.cloudfron
 t.net/2023/02/15/18/47/31/957bd234-f28d-4e61-b96e-d09c3dfef1c1/WnBW.jpg
END:VEVENT
END:VCALENDAR
